Package: MethylMix Version: 2.37.0 Command: /Library/Frameworks/R.framework/Resources/bin/R CMD check --install=check:MethylMix.install-out.txt --library=/Library/Frameworks/R.framework/Resources/library --no-vignettes --timings MethylMix_2.37.0.tar.gz StartedAt: 2025-02-03 20:40:16 -0500 (Mon, 03 Feb 2025) EndedAt: 2025-02-03 20:40:59 -0500 (Mon, 03 Feb 2025) EllapsedTime: 42.5 seconds RetCode: 0 Status: OK CheckDir: MethylMix.Rcheck Warnings: 0