Package: MethylMix Version: 2.37.0 Command: /Library/Frameworks/R.framework/Resources/bin/R CMD INSTALL MethylMix StartedAt: 2025-02-03 15:53:51 -0500 (Mon, 03 Feb 2025) EndedAt: 2025-02-03 15:53:55 -0500 (Mon, 03 Feb 2025) EllapsedTime: 3.4 seconds RetCode: 0 Status: OK