Package: MethylMix Version: 2.37.0 Command: /home/biocbuild/R/R/bin/R CMD build --keep-empty-dirs --no-resave-data MethylMix StartedAt: 2025-01-29 00:14:43 -0000 (Wed, 29 Jan 2025) EndedAt: 2025-01-29 00:15:20 -0000 (Wed, 29 Jan 2025) EllapsedTime: 37.0 seconds RetCode: 0 Status: OK PackageFile: MethylMix_2.37.0.tar.gz PackageFileSize: 2.577 MiB