Package: MethylMix Version: 2.37.0 Command: rm -rf MethylMix.buildbin-libdir && mkdir MethylMix.buildbin-libdir && /Users/biocbuild/BBS/utils/build-universal.sh MethylMix_2.37.0.tar.gz /Library/Frameworks/R.framework/Resources/bin/R MethylMix.buildbin-libdir StartedAt: 2025-02-10 01:02:07 -0500 (Mon, 10 Feb 2025) EndedAt: 2025-02-10 01:02:23 -0500 (Mon, 10 Feb 2025) EllapsedTime: 16.1 seconds RetCode: 0 Status: OK PackageFile: MethylMix_2.37.0.tgz PackageFileSize: 2.918 MiB