Package: MethylMix Version: 2.37.0 Command: /Library/Frameworks/R.framework/Resources/bin/R CMD check --install=check:MethylMix.install-out.txt --library=/Library/Frameworks/R.framework/Resources/library --no-vignettes --timings MethylMix_2.37.0.tar.gz StartedAt: 2025-02-09 21:50:38 -0500 (Sun, 09 Feb 2025) EndedAt: 2025-02-09 21:52:34 -0500 (Sun, 09 Feb 2025) EllapsedTime: 115.7 seconds RetCode: 0 Status: OK CheckDir: MethylMix.Rcheck Warnings: 0