Package: MethylMix Version: 2.37.0 Command: /home/biocbuild/bbs-3.21-bioc/R/bin/R CMD build --keep-empty-dirs --no-resave-data MethylMix StartedAt: 2025-02-03 18:13:07 -0500 (Mon, 03 Feb 2025) EndedAt: 2025-02-03 18:13:32 -0500 (Mon, 03 Feb 2025) EllapsedTime: 25.0 seconds RetCode: 0 Status: OK PackageFile: MethylMix_2.37.0.tar.gz PackageFileSize: 2.576 MiB