Package: MethylMix Version: 2.37.0 Command: /home/biocbuild/bbs-3.21-bioc/R/bin/R CMD check --install=check:MethylMix.install-out.txt --library=/home/biocbuild/bbs-3.21-bioc/R/site-library --timings MethylMix_2.37.0.tar.gz StartedAt: 2025-02-10 00:02:40 -0500 (Mon, 10 Feb 2025) EndedAt: 2025-02-10 00:04:32 -0500 (Mon, 10 Feb 2025) EllapsedTime: 111.2 seconds RetCode: 0 Status: OK CheckDir: MethylMix.Rcheck Warnings: 0