Package: MethylMix Version: 2.37.0 Command: /home/biocbuild/bbs-3.21-bioc/R/bin/R CMD INSTALL MethylMix StartedAt: 2025-02-09 15:08:15 -0500 (Sun, 09 Feb 2025) EndedAt: 2025-02-09 15:08:26 -0500 (Sun, 09 Feb 2025) EllapsedTime: 10.7 seconds RetCode: 0 Status: OK