Package: MethylMix Version: 2.37.0 Command: chmod a+r MethylMix -R && E:\biocbuild\bbs-3.21-bioc\R\bin\R.exe CMD build --keep-empty-dirs --no-resave-data MethylMix StartedAt: 2025-02-09 19:50:14 -0500 (Sun, 09 Feb 2025) EndedAt: 2025-02-09 19:50:58 -0500 (Sun, 09 Feb 2025) EllapsedTime: 43.7 seconds RetCode: 0 Status: OK PackageFile: MethylMix_2.37.0.tar.gz PackageFileSize: 2.575 MiB