Package: MethylMix Version: 2.37.0 Command: E:\biocbuild\bbs-3.21-bioc\R\bin\R.exe CMD INSTALL MethylMix StartedAt: 2025-02-09 15:54:00 -0500 (Sun, 09 Feb 2025) EndedAt: 2025-02-09 15:54:29 -0500 (Sun, 09 Feb 2025) EllapsedTime: 28.6 seconds RetCode: 0 Status: OK