Package: MethylSeekR Version: 1.47.0 Command: /Library/Frameworks/R.framework/Resources/bin/R CMD INSTALL MethylSeekR StartedAt: 2025-02-09 15:10:18 -0500 (Sun, 09 Feb 2025) EndedAt: 2025-02-09 15:10:31 -0500 (Sun, 09 Feb 2025) EllapsedTime: 12.4 seconds RetCode: 0 Status: OK