Package: MethylSeekR Version: 1.47.0 Command: /home/biocbuild/R/R/bin/R CMD check --install=check:MethylSeekR.install-out.txt --library=/home/biocbuild/R/R/site-library --no-vignettes --timings MethylSeekR_1.47.0.tar.gz StartedAt: 2025-01-28 12:22:06 -0000 (Tue, 28 Jan 2025) EndedAt: 2025-01-28 12:30:32 -0000 (Tue, 28 Jan 2025) EllapsedTime: 506.5 seconds RetCode: 0 Status: OK CheckDir: MethylSeekR.Rcheck Warnings: 0