Package: MethylSeekR Version: 1.47.0 Command: /Library/Frameworks/R.framework/Resources/bin/R CMD build --keep-empty-dirs --no-resave-data MethylSeekR StartedAt: 2025-02-09 17:24:40 -0500 (Sun, 09 Feb 2025) EndedAt: 2025-02-09 17:26:40 -0500 (Sun, 09 Feb 2025) EllapsedTime: 119.7 seconds RetCode: 0 Status: OK PackageFile: MethylSeekR_1.47.0.tar.gz PackageFileSize: 1.594 MiB