Package: MethylSeekR Version: 1.47.0 Command: rm -rf MethylSeekR.buildbin-libdir && mkdir MethylSeekR.buildbin-libdir && E:\biocbuild\bbs-3.21-bioc\R\bin\R.exe CMD INSTALL --build --library=MethylSeekR.buildbin-libdir MethylSeekR_1.47.0.tar.gz StartedAt: 2025-02-10 08:07:49 -0500 (Mon, 10 Feb 2025) EndedAt: 2025-02-10 08:08:38 -0500 (Mon, 10 Feb 2025) EllapsedTime: 49.5 seconds RetCode: 0 Status: OK PackageFile: MethylSeekR_1.47.0.zip PackageFileSize: 1.656 MiB