Package: MethylSeekR Version: 1.47.0 Command: chmod a+r MethylSeekR -R && E:\biocbuild\bbs-3.21-bioc\R\bin\R.exe CMD build --keep-empty-dirs --no-resave-data MethylSeekR StartedAt: 2025-02-12 19:55:46 -0500 (Wed, 12 Feb 2025) EndedAt: 2025-02-12 19:57:54 -0500 (Wed, 12 Feb 2025) EllapsedTime: 127.6 seconds RetCode: 0 Status: OK PackageFile: MethylSeekR_1.47.0.tar.gz PackageFileSize: 1.595 MiB