Package: MethylSeekR Version: 1.47.0 Command: E:\biocbuild\bbs-3.21-bioc\R\bin\R.exe CMD check --no-multiarch --install=check:MethylSeekR.install-out.txt --library=E:\biocbuild\bbs-3.21-bioc\R\library --no-vignettes --timings MethylSeekR_1.47.0.tar.gz StartedAt: 2025-02-13 03:01:22 -0500 (Thu, 13 Feb 2025) EndedAt: 2025-02-13 03:08:22 -0500 (Thu, 13 Feb 2025) EllapsedTime: 420.4 seconds RetCode: 0 Status: OK CheckDir: MethylSeekR.Rcheck Warnings: 0