Package: MethylSeekR Version: 1.47.0 Command: E:\biocbuild\bbs-3.21-bioc\R\bin\R.exe CMD INSTALL MethylSeekR StartedAt: 2025-02-09 16:34:40 -0500 (Sun, 09 Feb 2025) EndedAt: 2025-02-09 16:35:25 -0500 (Sun, 09 Feb 2025) EllapsedTime: 45.7 seconds RetCode: 0 Status: OK