Package: Mfuzz Version: 2.67.0 Command: /Library/Frameworks/R.framework/Resources/bin/R CMD INSTALL Mfuzz StartedAt: 2025-02-12 15:08:14 -0500 (Wed, 12 Feb 2025) EndedAt: 2025-02-12 15:08:40 -0500 (Wed, 12 Feb 2025) EllapsedTime: 26.0 seconds RetCode: 0 Status: OK