Package: Mfuzz Version: 2.67.0 Command: /home/biocbuild/bbs-3.21-bioc/R/bin/R CMD check --install=check:Mfuzz.install-out.txt --library=/home/biocbuild/bbs-3.21-bioc/R/site-library --timings Mfuzz_2.67.0.tar.gz StartedAt: 2025-02-13 00:05:31 -0500 (Thu, 13 Feb 2025) EndedAt: 2025-02-13 00:06:08 -0500 (Thu, 13 Feb 2025) EllapsedTime: 37.0 seconds RetCode: 0 Status: OK CheckDir: Mfuzz.Rcheck Warnings: 0