Package: Mfuzz Version: 2.67.0 Command: rm -rf Mfuzz.buildbin-libdir && mkdir Mfuzz.buildbin-libdir && E:\biocbuild\bbs-3.21-bioc\R\bin\R.exe CMD INSTALL --build --library=Mfuzz.buildbin-libdir Mfuzz_2.67.0.tar.gz StartedAt: 2025-02-13 08:19:11 -0500 (Thu, 13 Feb 2025) EndedAt: 2025-02-13 08:19:27 -0500 (Thu, 13 Feb 2025) EllapsedTime: 16.1 seconds RetCode: 0 Status: OK PackageFile: Mfuzz_2.67.0.zip PackageFileSize: 698.9 KiB