Package: Mfuzz Version: 2.67.0 Command: chmod a+r Mfuzz -R && E:\biocbuild\bbs-3.21-bioc\R\bin\R.exe CMD build --keep-empty-dirs --no-resave-data Mfuzz StartedAt: 2025-02-09 19:52:39 -0500 (Sun, 09 Feb 2025) EndedAt: 2025-02-09 19:53:05 -0500 (Sun, 09 Feb 2025) EllapsedTime: 26.0 seconds RetCode: 0 Status: OK PackageFile: Mfuzz_2.67.0.tar.gz PackageFileSize: 669.6 KiB