Package: Mfuzz Version: 2.67.0 Command: E:\biocbuild\bbs-3.21-bioc\R\bin\R.exe CMD check --no-multiarch --install=check:Mfuzz.install-out.txt --library=E:\biocbuild\bbs-3.21-bioc\R\library --no-vignettes --timings Mfuzz_2.67.0.tar.gz StartedAt: 2025-02-13 03:02:56 -0500 (Thu, 13 Feb 2025) EndedAt: 2025-02-13 03:03:57 -0500 (Thu, 13 Feb 2025) EllapsedTime: 60.6 seconds RetCode: 0 Status: OK CheckDir: Mfuzz.Rcheck Warnings: 0