Package: MiChip Version: 1.61.0 Command: /Library/Frameworks/R.framework/Resources/bin/R CMD build --keep-empty-dirs --no-resave-data MiChip StartedAt: 2025-02-09 16:56:07 -0500 (Sun, 09 Feb 2025) EndedAt: 2025-02-09 16:56:15 -0500 (Sun, 09 Feb 2025) EllapsedTime: 8.1 seconds RetCode: 0 Status: OK PackageFile: MiChip_1.61.0.tar.gz PackageFileSize: 670.2 KiB