Package: MiChip Version: 1.61.0 Command: /Library/Frameworks/R.framework/Resources/bin/R CMD INSTALL MiChip StartedAt: 2025-02-09 15:01:22 -0500 (Sun, 09 Feb 2025) EndedAt: 2025-02-09 15:01:24 -0500 (Sun, 09 Feb 2025) EllapsedTime: 2.0 seconds RetCode: 0 Status: OK