Package: MiChip Version: 1.61.0 Command: /Library/Frameworks/R.framework/Resources/bin/R CMD build --keep-empty-dirs --no-resave-data MiChip StartedAt: 2025-02-12 17:22:11 -0500 (Wed, 12 Feb 2025) EndedAt: 2025-02-12 17:22:27 -0500 (Wed, 12 Feb 2025) EllapsedTime: 16.0 seconds RetCode: 0 Status: OK PackageFile: MiChip_1.61.0.tar.gz PackageFileSize: 669 KiB