Package: MiChip Version: 1.61.0 Command: /Library/Frameworks/R.framework/Resources/bin/R CMD INSTALL MiChip StartedAt: 2025-02-12 15:05:13 -0500 (Wed, 12 Feb 2025) EndedAt: 2025-02-12 15:05:25 -0500 (Wed, 12 Feb 2025) EllapsedTime: 12.4 seconds RetCode: 0 Status: OK