Package: MiPP Version: 1.79.0 Command: rm -rf MiPP.buildbin-libdir && mkdir MiPP.buildbin-libdir && /Users/biocbuild/BBS/utils/build-universal.sh MiPP_1.79.0.tar.gz /Library/Frameworks/R.framework/Resources/bin/R MiPP.buildbin-libdir StartedAt: 2025-02-03 22:57:04 -0500 (Mon, 03 Feb 2025) EndedAt: 2025-02-03 22:57:07 -0500 (Mon, 03 Feb 2025) EllapsedTime: 3.0 seconds RetCode: 0 Status: OK PackageFile: MiPP_1.79.0.tgz PackageFileSize: 468.8 KiB