Package: MiPP Version: 1.79.0 Command: rm -rf MiPP.buildbin-libdir && mkdir MiPP.buildbin-libdir && /Users/biocbuild/BBS/utils/build-universal.sh MiPP_1.79.0.tar.gz /Library/Frameworks/R.framework/Resources/bin/R MiPP.buildbin-libdir StartedAt: 2025-02-04 00:43:23 -0500 (Tue, 04 Feb 2025) EndedAt: 2025-02-04 00:43:30 -0500 (Tue, 04 Feb 2025) EllapsedTime: 7.0 seconds RetCode: 0 Status: OK PackageFile: MiPP_1.79.0.tgz PackageFileSize: 467.5 KiB