Package: MiPP Version: 1.79.0 Command: /Library/Frameworks/R.framework/Resources/bin/R CMD build --keep-empty-dirs --no-resave-data MiPP StartedAt: 2025-02-09 17:27:36 -0500 (Sun, 09 Feb 2025) EndedAt: 2025-02-09 17:27:47 -0500 (Sun, 09 Feb 2025) EllapsedTime: 11.4 seconds RetCode: 0 Status: OK PackageFile: MiPP_1.79.0.tar.gz PackageFileSize: 409.4 KiB