Package: MiPP Version: 1.79.0 Command: /Library/Frameworks/R.framework/Resources/bin/R CMD check --install=check:MiPP.install-out.txt --library=/Library/Frameworks/R.framework/Resources/library --no-vignettes --timings MiPP_1.79.0.tar.gz StartedAt: 2025-02-09 21:56:25 -0500 (Sun, 09 Feb 2025) EndedAt: 2025-02-09 21:58:00 -0500 (Sun, 09 Feb 2025) EllapsedTime: 95.3 seconds RetCode: 0 Status: OK CheckDir: MiPP.Rcheck Warnings: 0