Package: MiPP Version: 1.79.0 Command: /Library/Frameworks/R.framework/Resources/bin/R CMD INSTALL MiPP StartedAt: 2025-02-09 15:05:08 -0500 (Sun, 09 Feb 2025) EndedAt: 2025-02-09 15:05:25 -0500 (Sun, 09 Feb 2025) EllapsedTime: 17.3 seconds RetCode: 0 Status: OK