Package: MiPP Version: 1.79.0 Command: /home/biocbuild/bbs-3.21-bioc/R/bin/R CMD build --keep-empty-dirs --no-resave-data MiPP StartedAt: 2025-02-09 18:08:17 -0500 (Sun, 09 Feb 2025) EndedAt: 2025-02-09 18:08:24 -0500 (Sun, 09 Feb 2025) EllapsedTime: 7.0 seconds RetCode: 0 Status: OK PackageFile: MiPP_1.79.0.tar.gz PackageFileSize: 410 KiB