Package: MiPP Version: 1.79.0 Command: rm -rf MiPP.buildbin-libdir && mkdir MiPP.buildbin-libdir && E:\biocbuild\bbs-3.21-bioc\R\bin\R.exe CMD INSTALL --build --library=MiPP.buildbin-libdir MiPP_1.79.0.tar.gz StartedAt: 2025-02-04 08:22:42 -0500 (Tue, 04 Feb 2025) EndedAt: 2025-02-04 08:22:52 -0500 (Tue, 04 Feb 2025) EllapsedTime: 9.7 seconds RetCode: 0 Status: OK PackageFile: MiPP_1.79.0.zip PackageFileSize: 379.4 KiB