Package: MiPP Version: 1.79.0 Command: chmod a+r MiPP -R && E:\biocbuild\bbs-3.21-bioc\R\bin\R.exe CMD build --keep-empty-dirs --no-resave-data MiPP StartedAt: 2025-02-03 20:08:28 -0500 (Mon, 03 Feb 2025) EndedAt: 2025-02-03 20:08:45 -0500 (Mon, 03 Feb 2025) EllapsedTime: 16.9 seconds RetCode: 0 Status: OK PackageFile: MiPP_1.79.0.tar.gz PackageFileSize: 319.3 KiB