Package: MiPP Version: 1.79.0 Command: E:\biocbuild\bbs-3.21-bioc\R\bin\R.exe CMD check --no-multiarch --install=check:MiPP.install-out.txt --library=E:\biocbuild\bbs-3.21-bioc\R\library --no-vignettes --timings MiPP_1.79.0.tar.gz StartedAt: 2025-02-10 02:58:12 -0500 (Mon, 10 Feb 2025) EndedAt: 2025-02-10 02:59:43 -0500 (Mon, 10 Feb 2025) EllapsedTime: 90.8 seconds RetCode: 0 Status: OK CheckDir: MiPP.Rcheck Warnings: 0