Package: MiPP Version: 1.79.0 Command: E:\biocbuild\bbs-3.21-bioc\R\bin\R.exe CMD INSTALL MiPP StartedAt: 2025-02-03 15:37:28 -0500 (Mon, 03 Feb 2025) EndedAt: 2025-02-03 15:37:42 -0500 (Mon, 03 Feb 2025) EllapsedTime: 13.9 seconds RetCode: 0 Status: OK