Package: MicrobiomeProfiler Version: 1.13.0 Command: /Library/Frameworks/R.framework/Resources/bin/R CMD check --install=check:MicrobiomeProfiler.install-out.txt --library=/Library/Frameworks/R.framework/Resources/library --no-vignettes --timings MicrobiomeProfiler_1.13.0.tar.gz StartedAt: 2025-02-10 20:07:56 -0500 (Mon, 10 Feb 2025) EndedAt: 2025-02-10 20:08:58 -0500 (Mon, 10 Feb 2025) EllapsedTime: 62.8 seconds RetCode: 0 Status: OK CheckDir: MicrobiomeProfiler.Rcheck Warnings: 0