Package: MicrobiomeProfiler Version: 1.13.0 Command: /Library/Frameworks/R.framework/Resources/bin/R CMD INSTALL MicrobiomeProfiler StartedAt: 2025-02-10 15:22:47 -0500 (Mon, 10 Feb 2025) EndedAt: 2025-02-10 15:22:57 -0500 (Mon, 10 Feb 2025) EllapsedTime: 9.5 seconds RetCode: 0 Status: OK