Package: MicrobiomeProfiler Version: 1.13.0 Command: /Library/Frameworks/R.framework/Resources/bin/R CMD build --keep-empty-dirs --no-resave-data MicrobiomeProfiler StartedAt: 2025-02-10 17:21:58 -0500 (Mon, 10 Feb 2025) EndedAt: 2025-02-10 17:22:32 -0500 (Mon, 10 Feb 2025) EllapsedTime: 34.3 seconds RetCode: 0 Status: OK PackageFile: MicrobiomeProfiler_1.13.0.tar.gz PackageFileSize: 1.051 MiB