Package: MicrobiomeProfiler Version: 1.13.0 Command: /Library/Frameworks/R.framework/Resources/bin/R CMD check --install=check:MicrobiomeProfiler.install-out.txt --library=/Library/Frameworks/R.framework/Resources/library --no-vignettes --timings MicrobiomeProfiler_1.13.0.tar.gz StartedAt: 2025-02-10 22:14:12 -0500 (Mon, 10 Feb 2025) EndedAt: 2025-02-10 22:17:09 -0500 (Mon, 10 Feb 2025) EllapsedTime: 176.5 seconds RetCode: 0 Status: OK CheckDir: MicrobiomeProfiler.Rcheck Warnings: 0