Package: MicrobiomeProfiler Version: 1.13.0 Command: /home/biocbuild/bbs-3.21-bioc/R/bin/R CMD build --keep-empty-dirs --no-resave-data MicrobiomeProfiler StartedAt: 2025-02-10 18:15:59 -0500 (Mon, 10 Feb 2025) EndedAt: 2025-02-10 18:16:25 -0500 (Mon, 10 Feb 2025) EllapsedTime: 26.0 seconds RetCode: 0 Status: OK PackageFile: MicrobiomeProfiler_1.13.0.tar.gz PackageFileSize: 1.051 MiB