Package: MicrobiomeProfiler Version: 1.13.0 Command: /home/biocbuild/bbs-3.21-bioc/R/bin/R CMD check --install=check:MicrobiomeProfiler.install-out.txt --library=/home/biocbuild/bbs-3.21-bioc/R/site-library --timings MicrobiomeProfiler_1.13.0.tar.gz StartedAt: 2025-02-11 00:18:25 -0500 (Tue, 11 Feb 2025) EndedAt: 2025-02-11 00:21:12 -0500 (Tue, 11 Feb 2025) EllapsedTime: 167.2 seconds RetCode: 0 Status: OK CheckDir: MicrobiomeProfiler.Rcheck Warnings: 0