Package: MicrobiomeProfiler Version: 1.13.0 Command: chmod a+r MicrobiomeProfiler -R && E:\biocbuild\bbs-3.21-bioc\R\bin\R.exe CMD build --keep-empty-dirs --no-resave-data MicrobiomeProfiler StartedAt: 2025-02-10 20:05:55 -0500 (Mon, 10 Feb 2025) EndedAt: 2025-02-10 20:06:41 -0500 (Mon, 10 Feb 2025) EllapsedTime: 45.9 seconds RetCode: 0 Status: OK PackageFile: MicrobiomeProfiler_1.13.0.tar.gz PackageFileSize: 1.051 MiB