Package: MicrobiomeProfiler Version: 1.13.0 Command: E:\biocbuild\bbs-3.21-bioc\R\bin\R.exe CMD check --no-multiarch --install=check:MicrobiomeProfiler.install-out.txt --library=E:\biocbuild\bbs-3.21-bioc\R\library --no-vignettes --timings MicrobiomeProfiler_1.13.0.tar.gz StartedAt: 2025-02-11 03:09:05 -0500 (Tue, 11 Feb 2025) EndedAt: 2025-02-11 03:12:17 -0500 (Tue, 11 Feb 2025) EllapsedTime: 191.9 seconds RetCode: 0 Status: OK CheckDir: MicrobiomeProfiler.Rcheck Warnings: 0