Package: MicrobiotaProcess Version: 1.19.0 Command: /Library/Frameworks/R.framework/Resources/bin/R CMD build --keep-empty-dirs --no-resave-data MicrobiotaProcess StartedAt: 2025-02-12 16:56:25 -0500 (Wed, 12 Feb 2025) EndedAt: 2025-02-12 16:57:28 -0500 (Wed, 12 Feb 2025) EllapsedTime: 62.7 seconds RetCode: 0 Status: OK PackageFile: MicrobiotaProcess_1.19.0.tar.gz PackageFileSize: 4.982 MiB