Package: MicrobiotaProcess Version: 1.19.0 Command: /Library/Frameworks/R.framework/Resources/bin/R CMD check --install=check:MicrobiotaProcess.install-out.txt --library=/Library/Frameworks/R.framework/Resources/library --no-vignettes --timings MicrobiotaProcess_1.19.0.tar.gz StartedAt: 2025-02-12 20:10:54 -0500 (Wed, 12 Feb 2025) EndedAt: 2025-02-12 20:12:49 -0500 (Wed, 12 Feb 2025) EllapsedTime: 115.3 seconds RetCode: 0 Status: OK CheckDir: MicrobiotaProcess.Rcheck Warnings: 0