Package: MicrobiotaProcess Version: 1.19.0 Command: rm -rf MicrobiotaProcess.buildbin-libdir && mkdir MicrobiotaProcess.buildbin-libdir && E:\biocbuild\bbs-3.21-bioc\R\bin\R.exe CMD INSTALL --build --library=MicrobiotaProcess.buildbin-libdir MicrobiotaProcess_1.19.0.tar.gz StartedAt: 2025-02-10 08:08:37 -0500 (Mon, 10 Feb 2025) EndedAt: 2025-02-10 08:18:57 -0500 (Mon, 10 Feb 2025) EllapsedTime: 619.9 seconds RetCode: 0 Status: OK PackageFile: MicrobiotaProcess_1.19.0.zip PackageFileSize: 4.39 MiB