Package: MicrobiotaProcess Version: 1.19.0 Command: chmod a+r MicrobiotaProcess -R && E:\biocbuild\bbs-3.21-bioc\R\bin\R.exe CMD build --keep-empty-dirs --no-resave-data MicrobiotaProcess StartedAt: 2025-02-12 19:59:10 -0500 (Wed, 12 Feb 2025) EndedAt: 2025-02-12 20:05:05 -0500 (Wed, 12 Feb 2025) EllapsedTime: 354.7 seconds RetCode: 0 Status: OK PackageFile: MicrobiotaProcess_1.19.0.tar.gz PackageFileSize: 3.624 MiB