Package: MicrobiotaProcess Version: 1.19.0 Command: E:\biocbuild\bbs-3.21-bioc\R\bin\R.exe CMD check --no-multiarch --install=check:MicrobiotaProcess.install-out.txt --library=E:\biocbuild\bbs-3.21-bioc\R\library --no-vignettes --timings MicrobiotaProcess_1.19.0.tar.gz StartedAt: 2025-02-13 03:06:49 -0500 (Thu, 13 Feb 2025) EndedAt: 2025-02-13 03:13:04 -0500 (Thu, 13 Feb 2025) EllapsedTime: 375.0 seconds RetCode: 0 Status: OK CheckDir: MicrobiotaProcess.Rcheck Warnings: 0