Package: MicrobiotaProcess Version: 1.19.0 Command: E:\biocbuild\bbs-3.21-bioc\R\bin\R.exe CMD INSTALL MicrobiotaProcess StartedAt: 2025-02-09 16:11:47 -0500 (Sun, 09 Feb 2025) EndedAt: 2025-02-09 16:16:47 -0500 (Sun, 09 Feb 2025) EllapsedTime: 300.2 seconds RetCode: 0 Status: OK